BEGIN:VCALENDAR
VERSION:2.0
PRODID:ncmanager.org
CALSCALE:GREGORIAN
BEGIN:VEVENT
DTSTAMP:20260425T162903Z
UID:ncmanager.org/nc/asnc/board/meetings/2026-04-14
DTSTART;TZID=America/Los_Angeles:20260414T190000
DURATION:PT2H
CREATED:20260410T144415
LAST-MODIFIED:20260410T144415
SUMMARY:Arroyo Seco Neighborhood Council Board Special Meeting
URL;VALUE=URI:https://ncmanager.org/nc/asnc/board/meetings/2026-04-14/agend
 a
END:VEVENT
END:VCALENDAR
