BEGIN:VCALENDAR
VERSION:2.0
PRODID:ncmanager.org
CALSCALE:GREGORIAN
BEGIN:VEVENT
DTSTAMP:20260421T130250Z
UID:ncmanager.org/nc/ghnnc/board/meetings/2026-04-07
DTSTART;TZID=America/Los_Angeles:20260407T183000
DURATION:PT2H
CREATED:20260402T160535
LAST-MODIFIED:20260402T160535
SUMMARY:Granada Hills North Neighborhood Council Board Regular Meeting
URL;VALUE=URI:https://ncmanager.org/nc/ghnnc/board/meetings/2026-04-07/agen
 da
END:VEVENT
END:VCALENDAR
