BEGIN:VCALENDAR
VERSION:2.0
PRODID:ncmanager.org
CALSCALE:GREGORIAN
BEGIN:VEVENT
DTSTAMP:20260423T090246Z
UID:ncmanager.org/nc/gpnc/committees/executive/meetings/2026-04-14
DTSTART;TZID=America/Los_Angeles:20260414T190000
DURATION:PT2H
CREATED:20260411T152016
LAST-MODIFIED:20260411T152016
SUMMARY:Glassell Park Neighborhood Council Executive Committee Regular Meet
 ing
URL;VALUE=URI:https://ncmanager.org/nc/gpnc/committees/executive/meetings/2
 026-04-14/agenda
END:VEVENT
END:VCALENDAR
