BEGIN:VCALENDAR
VERSION:2.0
PRODID:ncmanager.org
CALSCALE:GREGORIAN
BEGIN:VEVENT
DTSTAMP:20260419T234602Z
UID:ncmanager.org/nc/gtlnc/committees/outreach-elections/meetings/2026-04-1
 4
DTSTART;TZID=America/Los_Angeles:20260414T190000
DURATION:PT2H
CREATED:20260411T152016
LAST-MODIFIED:20260411T152016
SUMMARY:Greater Toluca Lake Neighborhood Council Outreach &amp; Elections Commi
 ttee Regular Meeting
URL;VALUE=URI:https://ncmanager.org/nc/gtlnc/committees/outreach-elections/
 meetings/2026-04-14/agenda
END:VEVENT
END:VCALENDAR
