BEGIN:VCALENDAR
VERSION:2.0
PRODID:ncmanager.org
CALSCALE:GREGORIAN
BEGIN:VEVENT
DTSTAMP:20260423T143221Z
UID:ncmanager.org/nc/lhnc/board/meetings/2026-04-16
DTSTART;TZID=America/Los_Angeles:20260416T180000
DURATION:PT2H
CREATED:20260414T162743
LAST-MODIFIED:20260414T162743
SUMMARY:Lincoln Heights Neighborhood Council Board Regular Meeting
URL;VALUE=URI:https://ncmanager.org/nc/lhnc/board/meetings/2026-04-16/agend
 a
END:VEVENT
END:VCALENDAR
