BEGIN:VCALENDAR
VERSION:2.0
PRODID:ncmanager.org
CALSCALE:GREGORIAN
BEGIN:VEVENT
DTSTAMP:20260424T113445Z
UID:ncmanager.org/nc/mcnc/committees/outreach/meetings/2026-04-20
DTSTART;TZID=America/Los_Angeles:20260420T183000
DURATION:PT2H
CREATED:20260417T164051
LAST-MODIFIED:20260417T164051
SUMMARY:Mid City Neighborhood Council Outreach Committee Special Meeting
URL;VALUE=URI:https://ncmanager.org/nc/mcnc/committees/outreach/meetings/20
 26-04-20/agenda
END:VEVENT
END:VCALENDAR
