BEGIN:VCALENDAR
VERSION:2.0
PRODID:ncmanager.org
CALSCALE:GREGORIAN
BEGIN:VEVENT
DTSTAMP:20260422T054441Z
UID:ncmanager.org/nc/wcknc/board/meetings/2026-04-13
DTSTART;TZID=America/Los_Angeles:20260413T173000
DURATION:PT2H
CREATED:20260410T093602
LAST-MODIFIED:20260410T093602
SUMMARY:Wilshire Center Koreatown  Neighborhood Council Board Regular Meeti
 ng
URL;VALUE=URI:https://ncmanager.org/nc/wcknc/board/meetings/2026-04-13/agen
 da
END:VEVENT
END:VCALENDAR
